Package: fenr Version: 1.2.1 Command: rm -rf fenr.buildbin-libdir && mkdir fenr.buildbin-libdir && /Users/biocbuild/BBS/utils/build-universal.sh fenr_1.2.1.tar.gz /Library/Frameworks/R.framework/Resources/bin/R fenr.buildbin-libdir StartedAt: 2024-10-17 16:09:26 -0400 (Thu, 17 Oct 2024) EndedAt: 2024-10-17 16:09:34 -0400 (Thu, 17 Oct 2024) EllapsedTime: 8.6 seconds RetCode: 0 Status: OK PackageFile: fenr_1.2.1.tgz PackageFileSize: 1.746 MiB