Package: fenr Version: 1.2.1 Command: /Library/Frameworks/R.framework/Resources/bin/R CMD build --keep-empty-dirs --no-resave-data fenr StartedAt: 2024-10-16 19:14:52 -0400 (Wed, 16 Oct 2024) EndedAt: 2024-10-16 19:15:55 -0400 (Wed, 16 Oct 2024) EllapsedTime: 62.5 seconds RetCode: 0 Status: OK PackageFile: fenr_1.2.1.tar.gz PackageFileSize: 1.927 MiB