Package: fenr Version: 1.2.1 Command: /home/biocbuild/bbs-3.19-bioc/R/bin/R CMD check --install=check:fenr.install-out.txt --library=/home/biocbuild/bbs-3.19-bioc/R/site-library --timings fenr_1.2.1.tar.gz StartedAt: 2024-10-17 00:25:04 -0400 (Thu, 17 Oct 2024) EndedAt: 2024-10-17 00:28:51 -0400 (Thu, 17 Oct 2024) EllapsedTime: 227.5 seconds RetCode: 0 Status: OK CheckDir: fenr.Rcheck Warnings: 0