Package: fenr Version: 1.2.1 Command: chmod a+r fenr -R && E:\biocbuild\bbs-3.19-bioc\R\bin\R.exe CMD build --keep-empty-dirs --no-resave-data fenr StartedAt: 2024-10-16 19:09:05 -0400 (Wed, 16 Oct 2024) EndedAt: 2024-10-16 19:09:38 -0400 (Wed, 16 Oct 2024) EllapsedTime: 32.3 seconds RetCode: 0 Status: OK PackageFile: fenr_1.2.1.tar.gz PackageFileSize: 1.927 MiB