Package: fenr Version: 1.2.1 Command: E:\biocbuild\bbs-3.19-bioc\R\bin\R.exe CMD check --no-multiarch --install=check:fenr.install-out.txt --library=E:\biocbuild\bbs-3.19-bioc\R\library --no-vignettes --timings fenr_1.2.1.tar.gz StartedAt: 2024-10-17 01:27:52 -0400 (Thu, 17 Oct 2024) EndedAt: 2024-10-17 01:31:55 -0400 (Thu, 17 Oct 2024) EllapsedTime: 242.2 seconds RetCode: 0 Status: OK CheckDir: fenr.Rcheck Warnings: 0