Package: fgga Version: 1.12.0 Command: /Library/Frameworks/R.framework/Resources/bin/R CMD build --keep-empty-dirs --no-resave-data fgga StartedAt: 2024-10-17 00:25:19 -0400 (Thu, 17 Oct 2024) EndedAt: 2024-10-17 00:26:12 -0400 (Thu, 17 Oct 2024) EllapsedTime: 53.2 seconds RetCode: 0 Status: OK PackageFile: fgga_1.12.0.tar.gz PackageFileSize: 1.358 MiB