Package: fgga Version: 1.12.0 Command: /Library/Frameworks/R.framework/Resources/bin/R CMD build --keep-empty-dirs --no-resave-data fgga StartedAt: 2024-10-16 19:15:23 -0400 (Wed, 16 Oct 2024) EndedAt: 2024-10-16 19:17:37 -0400 (Wed, 16 Oct 2024) EllapsedTime: 133.7 seconds RetCode: 0 Status: OK PackageFile: fgga_1.12.0.tar.gz PackageFileSize: 1.358 MiB