Package: fgga Version: 1.12.0 Command: /Library/Frameworks/R.framework/Resources/bin/R CMD check --install=check:fgga.install-out.txt --library=/Library/Frameworks/R.framework/Resources/library --no-vignettes --timings fgga_1.12.0.tar.gz StartedAt: 2024-10-17 05:17:51 -0400 (Thu, 17 Oct 2024) EndedAt: 2024-10-17 05:22:29 -0400 (Thu, 17 Oct 2024) EllapsedTime: 278.0 seconds RetCode: 0 Status: OK CheckDir: fgga.Rcheck Warnings: 0