Package: fgga Version: 1.12.0 Command: chmod a+r fgga -R && F:\biocbuild\bbs-3.19-bioc\R\bin\R.exe CMD build --keep-empty-dirs --no-resave-data fgga StartedAt: 2024-06-26 18:52:24 -0400 (Wed, 26 Jun 2024) EndedAt: 2024-06-26 18:53:30 -0400 (Wed, 26 Jun 2024) EllapsedTime: 66.4 seconds RetCode: 0 Status: OK PackageFile: fgga_1.12.0.tar.gz PackageFileSize: 1.306 MiB