Package: fgga Version: 1.12.0 Command: E:\biocbuild\bbs-3.19-bioc\R\bin\R.exe CMD INSTALL fgga StartedAt: 2024-10-16 16:15:20 -0400 (Wed, 16 Oct 2024) EndedAt: 2024-10-16 16:15:39 -0400 (Wed, 16 Oct 2024) EllapsedTime: 18.8 seconds RetCode: 0 Status: OK