Package: fgsea Version: 1.30.0 Command: /Library/Frameworks/R.framework/Resources/bin/R CMD INSTALL fgsea StartedAt: 2024-10-16 17:46:32 -0400 (Wed, 16 Oct 2024) EndedAt: 2024-10-16 17:47:06 -0400 (Wed, 16 Oct 2024) EllapsedTime: 33.8 seconds RetCode: 0 Status: OK