Package: fgsea Version: 1.30.0 Command: rm -rf fgsea.buildbin-libdir && mkdir fgsea.buildbin-libdir && /Users/biocbuild/BBS/utils/build-universal.sh fgsea_1.30.0.tar.gz /Library/Frameworks/R.framework/Resources/bin/R fgsea.buildbin-libdir StartedAt: 2024-06-11 11:14:11 -0400 (Tue, 11 Jun 2024) EndedAt: 2024-06-11 11:15:25 -0400 (Tue, 11 Jun 2024) EllapsedTime: 74.1 seconds RetCode: 0 Status: OK PackageFile: fgsea_1.30.0.tgz PackageFileSize: 4.628 MiB