Package: fgsea Version: 1.30.0 Command: rm -rf fgsea.buildbin-libdir && mkdir fgsea.buildbin-libdir && /Users/biocbuild/BBS/utils/build-universal.sh fgsea_1.30.0.tar.gz /Library/Frameworks/R.framework/Resources/bin/R fgsea.buildbin-libdir StartedAt: 2024-10-17 16:09:34 -0400 (Thu, 17 Oct 2024) EndedAt: 2024-10-17 16:11:00 -0400 (Thu, 17 Oct 2024) EllapsedTime: 85.3 seconds RetCode: 0 Status: OK PackageFile: fgsea_1.30.0.tgz PackageFileSize: 4.637 MiB