Package: fgsea Version: 1.30.0 Command: F:\biocbuild\bbs-3.19-bioc\R\bin\R.exe CMD INSTALL fgsea StartedAt: 2024-06-26 16:28:10 -0400 (Wed, 26 Jun 2024) EndedAt: 2024-06-26 16:29:12 -0400 (Wed, 26 Jun 2024) EllapsedTime: 62.2 seconds RetCode: 0 Status: OK