Package: fgsea Version: 1.30.0 Command: rm -rf fgsea.buildbin-libdir && mkdir fgsea.buildbin-libdir && E:\biocbuild\bbs-3.19-bioc\R\bin\R.exe CMD INSTALL --build --library=fgsea.buildbin-libdir fgsea_1.30.0.tar.gz StartedAt: 2024-10-17 07:47:50 -0400 (Thu, 17 Oct 2024) EndedAt: 2024-10-17 07:48:37 -0400 (Thu, 17 Oct 2024) EllapsedTime: 47.3 seconds RetCode: 0 Status: OK PackageFile: fgsea_1.30.0.zip PackageFileSize: 3.946 MiB