Package: fgsea Version: 1.30.0 Command: chmod a+r fgsea -R && E:\biocbuild\bbs-3.19-bioc\R\bin\R.exe CMD build --keep-empty-dirs --no-resave-data fgsea StartedAt: 2024-10-16 19:09:39 -0400 (Wed, 16 Oct 2024) EndedAt: 2024-10-16 19:19:44 -0400 (Wed, 16 Oct 2024) EllapsedTime: 604.8 seconds RetCode: 0 Status: OK PackageFile: fgsea_1.30.0.tar.gz PackageFileSize: 3.63 MiB