Package: fgsea Version: 1.30.0 Command: E:\biocbuild\bbs-3.19-bioc\R\bin\R.exe CMD INSTALL fgsea StartedAt: 2024-10-16 16:55:08 -0400 (Wed, 16 Oct 2024) EndedAt: 2024-10-16 16:55:58 -0400 (Wed, 16 Oct 2024) EllapsedTime: 49.9 seconds RetCode: 0 Status: OK