Package: fishpond Version: 2.10.0 Command: /Library/Frameworks/R.framework/Resources/bin/R CMD INSTALL fishpond StartedAt: 2024-10-16 16:11:02 -0400 (Wed, 16 Oct 2024) EndedAt: 2024-10-16 16:11:30 -0400 (Wed, 16 Oct 2024) EllapsedTime: 28.2 seconds RetCode: 0 Status: OK