Package: fishpond Version: 2.10.0 Command: /Library/Frameworks/R.framework/Resources/bin/R CMD INSTALL fishpond StartedAt: 2024-06-09 15:29:08 -0400 (Sun, 09 Jun 2024) EndedAt: 2024-06-09 15:29:41 -0400 (Sun, 09 Jun 2024) EllapsedTime: 32.2 seconds RetCode: 0 Status: OK