Package: fishpond Version: 2.10.0 Command: /home/biocbuild/R/R-beta-2024-04-15_r86425/bin/R CMD build --keep-empty-dirs --no-resave-data fishpond StartedAt: 2024-05-09 00:18:11 -0000 (Thu, 09 May 2024) EndedAt: 2024-05-09 00:24:37 -0000 (Thu, 09 May 2024) EllapsedTime: 386.5 seconds RetCode: 0 Status: OK PackageFile: fishpond_2.10.0.tar.gz PackageFileSize: 2.464 MiB