Package: fishpond Version: 2.10.0 Command: /Library/Frameworks/R.framework/Resources/bin/R CMD build --keep-empty-dirs --no-resave-data fishpond StartedAt: 2024-10-16 19:16:05 -0400 (Wed, 16 Oct 2024) EndedAt: 2024-10-16 19:25:22 -0400 (Wed, 16 Oct 2024) EllapsedTime: 556.5 seconds RetCode: 0 Status: OK PackageFile: fishpond_2.10.0.tar.gz PackageFileSize: 4.277 MiB