Package: fishpond Version: 2.10.0 Command: /home/biocbuild/bbs-3.19-bioc/R/bin/R CMD build --keep-empty-dirs --no-resave-data fishpond StartedAt: 2024-10-16 18:30:41 -0400 (Wed, 16 Oct 2024) EndedAt: 2024-10-16 18:34:39 -0400 (Wed, 16 Oct 2024) EllapsedTime: 237.6 seconds RetCode: 0 Status: OK PackageFile: fishpond_2.10.0.tar.gz PackageFileSize: 3.373 MiB