Package: fishpond Version: 2.10.0 Command: chmod a+r fishpond -R && F:\biocbuild\bbs-3.19-bioc\R\bin\R.exe CMD build --keep-empty-dirs --no-resave-data fishpond StartedAt: 2024-06-26 18:53:32 -0400 (Wed, 26 Jun 2024) EndedAt: 2024-06-26 19:02:08 -0400 (Wed, 26 Jun 2024) EllapsedTime: 516.0 seconds RetCode: 0 Status: OK PackageFile: fishpond_2.10.0.tar.gz PackageFileSize: 1.847 MiB