Package: fishpond Version: 2.10.0 Command: F:\biocbuild\bbs-3.19-bioc\R\bin\R.exe CMD INSTALL fishpond StartedAt: 2024-06-26 15:54:41 -0400 (Wed, 26 Jun 2024) EndedAt: 2024-06-26 15:55:13 -0400 (Wed, 26 Jun 2024) EllapsedTime: 31.8 seconds RetCode: 0 Status: OK