Package: fishpond Version: 2.10.0 Command: rm -rf fishpond.buildbin-libdir && mkdir fishpond.buildbin-libdir && E:\biocbuild\bbs-3.19-bioc\R\bin\R.exe CMD INSTALL --build --library=fishpond.buildbin-libdir fishpond_2.10.0.tar.gz StartedAt: 2024-10-17 07:47:57 -0400 (Thu, 17 Oct 2024) EndedAt: 2024-10-17 07:48:34 -0400 (Thu, 17 Oct 2024) EllapsedTime: 37.4 seconds RetCode: 0 Status: OK PackageFile: fishpond_2.10.0.zip PackageFileSize: 1.576 MiB