Package: fishpond Version: 2.10.0 Command: chmod a+r fishpond -R && E:\biocbuild\bbs-3.19-bioc\R\bin\R.exe CMD build --keep-empty-dirs --no-resave-data fishpond StartedAt: 2024-10-16 19:10:07 -0400 (Wed, 16 Oct 2024) EndedAt: 2024-10-16 19:16:31 -0400 (Wed, 16 Oct 2024) EllapsedTime: 383.4 seconds RetCode: 0 Status: OK PackageFile: fishpond_2.10.0.tar.gz PackageFileSize: 1.847 MiB