Package: fishpond Version: 2.10.0 Command: E:\biocbuild\bbs-3.19-bioc\R\bin\R.exe CMD INSTALL fishpond StartedAt: 2024-10-16 16:24:33 -0400 (Wed, 16 Oct 2024) EndedAt: 2024-10-16 16:25:05 -0400 (Wed, 16 Oct 2024) EllapsedTime: 31.7 seconds RetCode: 0 Status: OK