Package: flagme Version: 1.60.0 Command: /home/biocbuild/R/R-beta-2024-04-15_r86425/bin/R CMD check --install=check:flagme.install-out.txt --library=/home/biocbuild/R/R-beta-2024-04-15_r86425/site-library --no-vignettes --timings flagme_1.60.0.tar.gz StartedAt: 2024-05-09 07:26:39 -0000 (Thu, 09 May 2024) EndedAt: 2024-05-09 07:44:07 -0000 (Thu, 09 May 2024) EllapsedTime: 1048.2 seconds RetCode: 0 Status: WARNINGS CheckDir: flagme.Rcheck Warnings: 2