Package: flagme Version: 1.60.0 Command: /Library/Frameworks/R.framework/Resources/bin/R CMD build --keep-empty-dirs --no-resave-data flagme StartedAt: 2024-06-09 16:39:59 -0400 (Sun, 09 Jun 2024) EndedAt: 2024-06-09 16:43:50 -0400 (Sun, 09 Jun 2024) EllapsedTime: 231.4 seconds RetCode: 0 Status: OK PackageFile: flagme_1.60.0.tar.gz PackageFileSize: 725.7 KiB