Package: flagme Version: 1.60.0 Command: chmod a+r flagme -R && E:\biocbuild\bbs-3.19-bioc\R\bin\R.exe CMD build --keep-empty-dirs --no-resave-data flagme StartedAt: 2024-10-16 19:10:33 -0400 (Wed, 16 Oct 2024) EndedAt: 2024-10-16 19:15:19 -0400 (Wed, 16 Oct 2024) EllapsedTime: 286.3 seconds RetCode: 0 Status: OK PackageFile: flagme_1.60.0.tar.gz PackageFileSize: 427.1 KiB