Package: flagme Version: 1.60.0 Command: E:\biocbuild\bbs-3.19-bioc\R\bin\R.exe CMD INSTALL flagme StartedAt: 2024-10-16 17:02:30 -0400 (Wed, 16 Oct 2024) EndedAt: 2024-10-16 17:03:37 -0400 (Wed, 16 Oct 2024) EllapsedTime: 66.3 seconds RetCode: 0 Status: OK