Package: flowAI Version: 1.34.0 Command: /home/biocbuild/bbs-3.19-bioc/R/bin/R CMD build --keep-empty-dirs --no-resave-data flowAI StartedAt: 2024-10-16 18:31:03 -0400 (Wed, 16 Oct 2024) EndedAt: 2024-10-16 18:31:18 -0400 (Wed, 16 Oct 2024) EllapsedTime: 15.0 seconds RetCode: 0 Status: OK PackageFile: flowAI_1.34.0.tar.gz PackageFileSize: 3.747 MiB