Package: flowAI Version: 1.34.0 Command: /home/biocbuild/bbs-3.19-bioc/R/bin/R CMD INSTALL flowAI StartedAt: 2024-10-16 16:17:52 -0400 (Wed, 16 Oct 2024) EndedAt: 2024-10-16 16:18:02 -0400 (Wed, 16 Oct 2024) EllapsedTime: 10.0 seconds RetCode: 0 Status: OK