Package: flowAI Version: 1.34.0 Command: E:\biocbuild\bbs-3.19-bioc\R\bin\R.exe CMD INSTALL flowAI StartedAt: 2024-10-16 16:39:21 -0400 (Wed, 16 Oct 2024) EndedAt: 2024-10-16 16:39:37 -0400 (Wed, 16 Oct 2024) EllapsedTime: 15.6 seconds RetCode: 0 Status: OK