Package: flowBeads Version: 1.42.0 Maintainer: Nikolas Pontikos MaintainerEmail: n.pontikos at gmail.com git_url: https://git.bioconductor.org/packages/flowBeads git_branch: RELEASE_3_19 git_last_commit: e04615c git_last_commit_date: 2024-04-30 10:32:08 -0400 (Tue, 30 Apr 2024)