Package: flowBeads Version: 1.42.0 Command: /Library/Frameworks/R.framework/Resources/bin/R CMD build --keep-empty-dirs --no-resave-data flowBeads StartedAt: 2024-10-17 00:33:45 -0400 (Thu, 17 Oct 2024) EndedAt: 2024-10-17 00:34:07 -0400 (Thu, 17 Oct 2024) EllapsedTime: 22.8 seconds RetCode: 0 Status: OK PackageFile: flowBeads_1.42.0.tar.gz PackageFileSize: 978.1 KiB