Package: flowBeads Version: 1.42.0 Command: /home/biocbuild/R/R-beta-2024-04-15_r86425/bin/R CMD check --install=check:flowBeads.install-out.txt --library=/home/biocbuild/R/R-beta-2024-04-15_r86425/site-library --no-vignettes --timings flowBeads_1.42.0.tar.gz StartedAt: 2024-05-09 07:26:58 -0000 (Thu, 09 May 2024) EndedAt: 2024-05-09 07:28:10 -0000 (Thu, 09 May 2024) EllapsedTime: 72.1 seconds RetCode: 0 Status: WARNINGS CheckDir: flowBeads.Rcheck Warnings: 2