Package: flowBeads Version: 1.42.0 Command: /Library/Frameworks/R.framework/Resources/bin/R CMD check --install=check:flowBeads.install-out.txt --library=/Library/Frameworks/R.framework/Resources/library --no-vignettes --timings flowBeads_1.42.0.tar.gz StartedAt: 2024-06-09 20:24:38 -0400 (Sun, 09 Jun 2024) EndedAt: 2024-06-09 20:25:53 -0400 (Sun, 09 Jun 2024) EllapsedTime: 75.3 seconds RetCode: 0 Status: WARNINGS CheckDir: flowBeads.Rcheck Warnings: 2