Package: flowBeads Version: 1.42.0 Command: /Library/Frameworks/R.framework/Resources/bin/R CMD build --keep-empty-dirs --no-resave-data flowBeads StartedAt: 2024-10-16 19:16:18 -0400 (Wed, 16 Oct 2024) EndedAt: 2024-10-16 19:17:04 -0400 (Wed, 16 Oct 2024) EllapsedTime: 45.4 seconds RetCode: 0 Status: OK PackageFile: flowBeads_1.42.0.tar.gz PackageFileSize: 978.2 KiB