Package: flowGate Version: 1.4.0 Command: rm -rf flowGate.buildbin-libdir && mkdir flowGate.buildbin-libdir && F:\biocbuild\bbs-3.19-bioc\R\bin\R.exe CMD INSTALL --build --library=flowGate.buildbin-libdir flowGate_1.4.0.tar.gz StartedAt: 2024-06-27 08:13:32 -0400 (Thu, 27 Jun 2024) EndedAt: 2024-06-27 08:14:03 -0400 (Thu, 27 Jun 2024) EllapsedTime: 30.9 seconds RetCode: 0 Status: OK PackageFile: flowGate_1.4.0.zip PackageFileSize: 1.175 MiB