Package: flowGate Version: 1.4.0 Command: chmod a+r flowGate -R && F:\biocbuild\bbs-3.19-bioc\R\bin\R.exe CMD build --keep-empty-dirs --no-resave-data flowGate StartedAt: 2024-06-26 18:56:45 -0400 (Wed, 26 Jun 2024) EndedAt: 2024-06-26 18:58:28 -0400 (Wed, 26 Jun 2024) EllapsedTime: 102.6 seconds RetCode: 0 Status: OK PackageFile: flowGate_1.4.0.tar.gz PackageFileSize: 1.897 MiB