Package: flowGate Version: 1.4.0 Command: F:\biocbuild\bbs-3.19-bioc\R\bin\R.exe CMD INSTALL flowGate StartedAt: 2024-06-26 16:16:24 -0400 (Wed, 26 Jun 2024) EndedAt: 2024-06-26 16:16:42 -0400 (Wed, 26 Jun 2024) EllapsedTime: 18.7 seconds RetCode: 0 Status: OK