Package: flowMap Version: 1.42.0 Maintainer: Chiaowen Joyce Hsiao MaintainerEmail: joyce.hsiao1 at gmail.com git_url: https://git.bioconductor.org/packages/flowMap git_branch: RELEASE_3_19 git_last_commit: c54d2b1 git_last_commit_date: 2024-04-30 10:33:52 -0400 (Tue, 30 Apr 2024)