Package: flowMap Version: 1.42.0 Command: /Library/Frameworks/R.framework/Resources/bin/R CMD build --keep-empty-dirs --no-resave-data flowMap StartedAt: 2024-10-17 00:36:54 -0400 (Thu, 17 Oct 2024) EndedAt: 2024-10-17 00:38:45 -0400 (Thu, 17 Oct 2024) EllapsedTime: 111.4 seconds RetCode: 0 Status: OK PackageFile: flowMap_1.42.0.tar.gz PackageFileSize: 879.7 KiB