Package: flowMap Version: 1.42.0 Command: /Library/Frameworks/R.framework/Resources/bin/R CMD check --install=check:flowMap.install-out.txt --library=/Library/Frameworks/R.framework/Resources/library --no-vignettes --timings flowMap_1.42.0.tar.gz StartedAt: 2024-10-17 21:54:38 -0400 (Thu, 17 Oct 2024) EndedAt: 2024-10-17 21:55:35 -0400 (Thu, 17 Oct 2024) EllapsedTime: 57.0 seconds RetCode: 0 Status: WARNINGS CheckDir: flowMap.Rcheck Warnings: 2