Package: flowMap Version: 1.42.0 Command: E:\biocbuild\bbs-3.19-bioc\R\bin\R.exe CMD INSTALL flowMap StartedAt: 2024-10-16 16:08:10 -0400 (Wed, 16 Oct 2024) EndedAt: 2024-10-16 16:08:22 -0400 (Wed, 16 Oct 2024) EllapsedTime: 11.9 seconds RetCode: 0 Status: OK