Package: flowMeans Version: 1.64.0 Command: /Library/Frameworks/R.framework/Resources/bin/R CMD INSTALL flowMeans StartedAt: 2024-10-16 15:22:32 -0400 (Wed, 16 Oct 2024) EndedAt: 2024-10-16 15:23:15 -0400 (Wed, 16 Oct 2024) EllapsedTime: 43.0 seconds RetCode: 0 Status: OK