Package: flowMeans Version: 1.64.0 Command: E:\biocbuild\bbs-3.19-bioc\R\bin\R.exe CMD check --no-multiarch --install=check:flowMeans.install-out.txt --library=E:\biocbuild\bbs-3.19-bioc\R\library --no-vignettes --timings flowMeans_1.64.0.tar.gz StartedAt: 2024-10-17 01:32:56 -0400 (Thu, 17 Oct 2024) EndedAt: 2024-10-17 01:34:42 -0400 (Thu, 17 Oct 2024) EllapsedTime: 106.0 seconds RetCode: 0 Status: OK CheckDir: flowMeans.Rcheck Warnings: 0