Package: flowPeaks Version: 1.50.0 Maintainer: Yongchao Ge MaintainerEmail: yongchao.ge at gmail.com git_url: https://git.bioconductor.org/packages/flowPeaks git_branch: RELEASE_3_19 git_last_commit: f669de2 git_last_commit_date: 2024-04-30 10:27:59 -0400 (Tue, 30 Apr 2024)