Package: flowPeaks Version: 1.50.0 Command: rm -rf flowPeaks.buildbin-libdir && mkdir flowPeaks.buildbin-libdir && E:\biocbuild\bbs-3.19-bioc\R\bin\R.exe CMD INSTALL --build --library=flowPeaks.buildbin-libdir flowPeaks_1.50.0.tar.gz StartedAt: 2024-10-17 07:48:33 -0400 (Thu, 17 Oct 2024) EndedAt: 2024-10-17 07:49:10 -0400 (Thu, 17 Oct 2024) EllapsedTime: 37.1 seconds RetCode: 0 Status: OK PackageFile: flowPeaks_1.50.0.zip PackageFileSize: 2.073 MiB